BEGIN:VCALENDAR
VERSION:2.0
PRODID:-//ISD Dubai - ECPv6.11.2.1//NONSGML v1.0//EN
CALSCALE:GREGORIAN
METHOD:PUBLISH
X-ORIGINAL-URL:https://isddubai.com
X-WR-CALDESC:Events for ISD Dubai
REFRESH-INTERVAL;VALUE=DURATION:PT1H
X-Robots-Tag:noindex
X-PUBLISHED-TTL:PT1H
BEGIN:VTIMEZONE
TZID:UTC
BEGIN:STANDARD
TZOFFSETFROM:+0000
TZOFFSETTO:+0000
TZNAME:UTC
DTSTART:20240101T000000
END:STANDARD
END:VTIMEZONE
BEGIN:VEVENT
DTSTART;TZID=UTC:20240902T150000
DTEND;TZID=UTC:20240902T210000
DTSTAMP:20260420T155002
CREATED:20240617T102320Z
LAST-MODIFIED:20241003T051452Z
UID:10468-1725289200-1725310800@isddubai.com
SUMMARY:New Academy Season @ISD
DESCRIPTION:[vc_row enable_arrows_animation=”no”][vc_column][vc_column_text]Great news parents\, the new season at ISD Dubai Sports City’s various kid’s sports academies will start on September 02\, 2024. This season we are adding a new academy\, as ISD Table Tennis Academy will join ISD Padel\, ISD ProStyle\, and LaLiga Academy. \nLaLiga Academy has a new location at Police Academy Park\, in Al Sufouh 2 just 300 meters away from the Mall of the Emirates. \nEnsure your kid’s spot by booking a free trial and registering before our academies become full.[/vc_column_text][vc_empty_space height=”50px”][vc_row_inner row_content_width=”grid”][vc_column_inner width=”1/3″]\n		\n		\n			Phone		\n	\n[/vc_column_inner][vc_column_inner width=”1/3″]\n		\n		\n			WhatsApp		\n	\n[/vc_column_inner][vc_column_inner width=”1/3″]\n		\n		\n			Email		\n	\n[/vc_column_inner][/vc_row_inner][/vc_column][/vc_row]
URL:https://isddubai.com/event/new-academy-season-isd/
CATEGORIES:Home Page Highlight
ATTACH;FMTTYPE=image/jpeg:https://isddubai.com/wp-content/uploads/2024/06/Untitled-design-79.jpg
END:VEVENT
END:VCALENDAR