BEGIN:VCALENDAR
VERSION:2.0
PRODID:-//ISD Dubai - ECPv6.11.2.1//NONSGML v1.0//EN
CALSCALE:GREGORIAN
METHOD:PUBLISH
X-WR-CALNAME:ISD Dubai
X-ORIGINAL-URL:https://isddubai.com
X-WR-CALDESC:Events for ISD Dubai
REFRESH-INTERVAL;VALUE=DURATION:PT1H
X-Robots-Tag:noindex
X-PUBLISHED-TTL:PT1H
BEGIN:VTIMEZONE
TZID:UTC
BEGIN:STANDARD
TZOFFSETFROM:+0000
TZOFFSETTO:+0000
TZNAME:UTC
DTSTART:20250101T000000
END:STANDARD
END:VTIMEZONE
BEGIN:VEVENT
DTSTART;TZID=UTC:20250418T210000
DTEND;TZID=UTC:20250418T235900
DTSTAMP:20260420T174428
CREATED:20241209T035038Z
LAST-MODIFIED:20250403T031417Z
UID:12557-1745010000-1745020740@isddubai.com
SUMMARY:Friday Night Live @ Kickers
DESCRIPTION:[vc_row enable_arrows_animation=”no”][vc_column][vc_column_text]Let the weekend begin with the rhythm of live music! Every Friday\, Kickers turns into the ultimate chill spot with talented artists setting the vibe for a memorable evening. Great music\, delicious food\, and good company await you![/vc_column_text][vc_empty_space height=”50px”][vc_row_inner row_content_width=”grid”][vc_column_inner width=”1/3″]\n		\n		\n			Phone		\n	\n[/vc_column_inner][vc_column_inner width=”1/3″]\n		\n		\n			WhatsApp		\n	\n[/vc_column_inner][vc_column_inner width=”1/3″]\n		\n		\n			Email		\n	\n[/vc_column_inner][/vc_row_inner][/vc_column][/vc_row]
URL:https://isddubai.com/event/live-music-2/
CATEGORIES:Home Page Highlight
ATTACH;FMTTYPE=image/jpeg:https://isddubai.com/wp-content/uploads/2024/12/4am-Band-Performing-Live-at-Kickers-During-their-Friday-live-music-night-4.jpg
END:VEVENT
END:VCALENDAR