BEGIN:VCALENDAR
VERSION:2.0
PRODID:-//ISD Dubai - ECPv6.11.2.1//NONSGML v1.0//EN
CALSCALE:GREGORIAN
METHOD:PUBLISH
X-WR-CALNAME:ISD Dubai
X-ORIGINAL-URL:https://isddubai.com
X-WR-CALDESC:Events for ISD Dubai
REFRESH-INTERVAL;VALUE=DURATION:PT1H
X-Robots-Tag:noindex
X-PUBLISHED-TTL:PT1H
BEGIN:VTIMEZONE
TZID:UTC
BEGIN:STANDARD
TZOFFSETFROM:+0000
TZOFFSETTO:+0000
TZNAME:UTC
DTSTART:20250101T000000
END:STANDARD
END:VTIMEZONE
BEGIN:VEVENT
DTSTART;TZID=UTC:20250528T203000
DTEND;TZID=UTC:20250528T235900
DTSTAMP:20260421T033523
CREATED:20241231T035805Z
LAST-MODIFIED:20250505T102536Z
UID:12821-1748464200-1748476740@isddubai.com
SUMMARY:Kueens Night @ Kickers
DESCRIPTION:[vc_row enable_arrows_animation=”no”][vc_column][vc_column_text]Every Wednesday is ladies’ night at Kickers! Enjoy no special fees\, a free second drink\, and complimentary snacks to keep the good times rolling. Grab your friends and make it an unforgettable midweek celebration![/vc_column_text][vc_empty_space height=”50px”][vc_row_inner row_content_width=”grid”][vc_column_inner width=”1/3″]\n		\n		\n			Phone		\n	\n[/vc_column_inner][vc_column_inner width=”1/3″]\n		\n		\n			WhatsApp		\n	\n[/vc_column_inner][vc_column_inner width=”1/3″]\n		\n		\n			Email		\n	\n[/vc_column_inner][/vc_row_inner][/vc_column][/vc_row]
URL:https://isddubai.com/event/kickers-kueens-4/
LOCATION:Kickers Sports Bar\, Dubai Sports City
CATEGORIES:Home Page Highlight
ATTACH;FMTTYPE=image/jpeg:https://isddubai.com/wp-content/uploads/2024/12/Untitled-1500-x-700-px-9.jpg
END:VEVENT
BEGIN:VEVENT
DTSTART;TZID=UTC:20250529T200000
DTEND;TZID=UTC:20250529T235900
DTSTAMP:20260421T033523
CREATED:20250505T113304Z
LAST-MODIFIED:20250505T113304Z
UID:14123-1748548800-1748563140@isddubai.com
SUMMARY:𝐑𝐢𝐬𝐤𝐲 𝐐𝐮𝐢𝐳𝐳𝐧𝐞𝐬𝐬 @ Kickers
DESCRIPTION:[vc_row enable_arrows_animation=”no”][vc_column][vc_column_text]𝐑𝐞𝐚𝐝𝐲 𝐟𝐨𝐫 𝐚𝐧𝐨𝐭𝐡𝐞𝐫 𝐫𝐨𝐮𝐧𝐝 𝐨𝐟 𝐑𝐢𝐬𝐤𝐲 𝐐𝐮𝐢𝐳𝐳𝐧𝐞𝐬𝐬? \nGames\, challenges\, dance-offs — and yes\, a lot of unexpected twists! 🤩\nGet your team together and join the fun this 𝐓𝐡𝐮𝐫𝐬𝐝𝐚𝐲 𝐚𝐭 𝟖𝐏𝐌 at Garden by Kickers. \n𝐉𝐞𝐧 & 𝐋𝐨𝐭𝐭𝐢𝐞 𝐚𝐫𝐞 𝐤𝐞𝐞𝐩𝐢𝐧𝐠 𝐭𝐡𝐞 𝐟𝐮𝐧 𝐫𝐨𝐥𝐥𝐢𝐧𝐠 — you don’t want to miss it![/vc_column_text][vc_empty_space height=”50px”][vc_row_inner row_content_width=”grid”][vc_column_inner width=”1/3″]\n		\n		\n			Phone		\n	\n[/vc_column_inner][vc_column_inner width=”1/3″]\n		\n		\n			WhatsApp		\n	\n[/vc_column_inner][vc_column_inner width=”1/3″]\n		\n		\n			Email		\n	\n[/vc_column_inner][/vc_row_inner][/vc_column][/vc_row]
URL:https://isddubai.com/event/%f0%9d%90%91%f0%9d%90%a2%f0%9d%90%ac%f0%9d%90%a4%f0%9d%90%b2-%f0%9d%90%90%f0%9d%90%ae%f0%9d%90%a2%f0%9d%90%b3%f0%9d%90%b3%f0%9d%90%a7%f0%9d%90%9e%f0%9d%90%ac%f0%9d%90%ac-kickers/
CATEGORIES:Home Page Highlight
ATTACH;FMTTYPE=image/jpeg:https://isddubai.com/wp-content/uploads/2025/05/Risky-Quizness-at-The-Garden-by-Kickers-Sports-Bar-in-Dubai-Sports-City-2.jpg
END:VEVENT
BEGIN:VEVENT
DTSTART;TZID=UTC:20250530T200000
DTEND;TZID=UTC:20250530T235900
DTSTAMP:20260421T033523
CREATED:20250505T110340Z
LAST-MODIFIED:20250505T110340Z
UID:14120-1748635200-1748649540@isddubai.com
SUMMARY:10 Year Anniversary Party @ Kickers
DESCRIPTION:[vc_row enable_arrows_animation=”no”][vc_column][vc_column_text]𝐖𝐄’𝐑𝐄 𝐓𝐔𝐑𝐍𝐈𝐍𝐆 𝟏𝟎 — 𝐀𝐍𝐃 𝐘𝐎𝐔’𝐑𝐄 𝐈𝐍𝐕𝐈𝐓𝐄𝐃 𝐓𝐎 𝐓𝐇𝐄 𝐏𝐀𝐑𝐓𝐘 𝐎𝐅 𝐓𝐇𝐄 𝐘𝐄𝐀𝐑!\nKickers Sports Bar is hitting double digits\, and we’re celebrating with a night full of rock\, rhythm\, and pure energy! \n𝐌𝐚𝐲 𝟑𝟎 | 𝐅𝐫𝐨𝐦 𝟖 𝐏𝐌\nLive performances by 𝟒𝐀𝐌 & 𝐒𝐩𝐞𝐞𝐝 𝐖𝐚𝐠𝐨𝐧\n𝐀𝐄𝐃 𝟐𝟎 𝐇𝐨𝐮𝐬𝐞 𝐒𝐩𝐢𝐫𝐢𝐭𝐬 • Festive Vibes • Epic Cake & Confetti Moments \nLet’s rock the night away — only at Kickers Sports Bar!\n𝐓𝐚𝐠 𝐲𝐨𝐮𝐫 𝐜𝐫𝐞𝐰 𝐚𝐧𝐝 𝐒𝐡𝐚𝐫𝐞 𝐭𝐡𝐢𝐬 𝐰𝐢𝐭𝐡 𝐬𝐨𝐦𝐞𝐨𝐧𝐞 𝐰𝐡𝐨’𝐬 𝐛𝐞𝐞𝐧 𝐫𝐨𝐜𝐤𝐢𝐧𝐠 𝐰𝐢𝐭𝐡 𝐊𝐢𝐜𝐤𝐞𝐫𝐬 𝐬𝐢𝐧𝐜𝐞 𝐝𝐚𝐲 𝐨𝐧𝐞 🫵🏼[/vc_column_text][vc_empty_space height=”50px”][vc_row_inner row_content_width=”grid”][vc_column_inner width=”1/3″]\n		\n		\n			Phone		\n	\n[/vc_column_inner][vc_column_inner width=”1/3″]\n		\n		\n			WhatsApp		\n	\n[/vc_column_inner][vc_column_inner width=”1/3″]\n		\n		\n			Email		\n	\n[/vc_column_inner][/vc_row_inner][/vc_column][/vc_row]
URL:https://isddubai.com/event/10-year-anniversary-party-kickers/
CATEGORIES:Home Page Highlight
ATTACH;FMTTYPE=image/jpeg:https://isddubai.com/wp-content/uploads/2025/05/10-year-anniversary-party-at-Kickers-Sports-Bar-in-Dubai-Sports-City.jpg
END:VEVENT
END:VCALENDAR